BEGIN:VCALENDAR
VERSION:2.0
PRODID:-//Diamond Dragon - ECPv6.10.1.1//NONSGML v1.0//EN
CALSCALE:GREGORIAN
METHOD:PUBLISH
X-ORIGINAL-URL:https://diamonddragon.fun
X-WR-CALDESC:Събития за Diamond Dragon
REFRESH-INTERVAL;VALUE=DURATION:PT1H
X-Robots-Tag:noindex
X-PUBLISHED-TTL:PT1H
BEGIN:VTIMEZONE
TZID:Europe/Sofia
BEGIN:DAYLIGHT
TZOFFSETFROM:+0200
TZOFFSETTO:+0300
TZNAME:EEST
DTSTART:20260329T010000
END:DAYLIGHT
BEGIN:STANDARD
TZOFFSETFROM:+0300
TZOFFSETTO:+0200
TZNAME:EET
DTSTART:20261025T010000
END:STANDARD
END:VTIMEZONE
BEGIN:VEVENT
DTSTART;TZID=Europe/Sofia:20261103T180000
DTEND;TZID=Europe/Sofia:20261103T193000
DTSTAMP:20260421T191715
CREATED:20250310T084140Z
LAST-MODIFIED:20250310T084141Z
UID:10001485-1793728800-1793734200@diamonddragon.fun
SUMMARY:Тренировка
DESCRIPTION:
URL:https://diamonddragon.fun/e/trenirovka-2/2026-11-03/
LOCATION:Панчарево\, Панчарево\, София\, София\, 1137\, Bulgaria
CATEGORIES:Тренировка
ATTACH;FMTTYPE=image/jpeg:https://diamonddragon.fun/wp-content/uploads/2024/12/20240630_142850-scaled.jpg
ORGANIZER;CN="Diamon Dragon Club":MAILTO:info@diamonddragon.fun
END:VEVENT
BEGIN:VEVENT
DTSTART;TZID=Europe/Sofia:20261105T180000
DTEND;TZID=Europe/Sofia:20261105T193000
DTSTAMP:20260421T191715
CREATED:20250310T084140Z
LAST-MODIFIED:20250310T084141Z
UID:10001486-1793901600-1793907000@diamonddragon.fun
SUMMARY:Тренировка
DESCRIPTION:
URL:https://diamonddragon.fun/e/trenirovka-2/2026-11-05/
LOCATION:Панчарево\, Панчарево\, София\, София\, 1137\, Bulgaria
CATEGORIES:Тренировка
ATTACH;FMTTYPE=image/jpeg:https://diamonddragon.fun/wp-content/uploads/2024/12/20240630_142850-scaled.jpg
ORGANIZER;CN="Diamon Dragon Club":MAILTO:info@diamonddragon.fun
END:VEVENT
BEGIN:VEVENT
DTSTART;TZID=Europe/Sofia:20261107T130000
DTEND;TZID=Europe/Sofia:20261107T143000
DTSTAMP:20260421T191715
CREATED:20250310T084112Z
LAST-MODIFIED:20250320T150343Z
UID:10002535-1794056400-1794061800@diamonddragon.fun
SUMMARY:Тренировка
DESCRIPTION:
URL:https://diamonddragon.fun/e/trenirovka-sabota-2/2026-11-07/
LOCATION:Панчарево\, Панчарево\, София\, София\, 1137\, Bulgaria
CATEGORIES:Тренировка
ATTACH;FMTTYPE=image/jpeg:https://diamonddragon.fun/wp-content/uploads/2024/12/20240630_142850-scaled.jpg
ORGANIZER;CN="Diamon Dragon Club":MAILTO:info@diamonddragon.fun
END:VEVENT
BEGIN:VEVENT
DTSTART;TZID=Europe/Sofia:20261110T180000
DTEND;TZID=Europe/Sofia:20261110T193000
DTSTAMP:20260421T191715
CREATED:20250310T084140Z
LAST-MODIFIED:20250310T084141Z
UID:10001487-1794333600-1794339000@diamonddragon.fun
SUMMARY:Тренировка
DESCRIPTION:
URL:https://diamonddragon.fun/e/trenirovka-2/2026-11-10/
LOCATION:Панчарево\, Панчарево\, София\, София\, 1137\, Bulgaria
CATEGORIES:Тренировка
ATTACH;FMTTYPE=image/jpeg:https://diamonddragon.fun/wp-content/uploads/2024/12/20240630_142850-scaled.jpg
ORGANIZER;CN="Diamon Dragon Club":MAILTO:info@diamonddragon.fun
END:VEVENT
BEGIN:VEVENT
DTSTART;TZID=Europe/Sofia:20261112T180000
DTEND;TZID=Europe/Sofia:20261112T193000
DTSTAMP:20260421T191715
CREATED:20250310T084140Z
LAST-MODIFIED:20250310T084141Z
UID:10001488-1794506400-1794511800@diamonddragon.fun
SUMMARY:Тренировка
DESCRIPTION:
URL:https://diamonddragon.fun/e/trenirovka-2/2026-11-12/
LOCATION:Панчарево\, Панчарево\, София\, София\, 1137\, Bulgaria
CATEGORIES:Тренировка
ATTACH;FMTTYPE=image/jpeg:https://diamonddragon.fun/wp-content/uploads/2024/12/20240630_142850-scaled.jpg
ORGANIZER;CN="Diamon Dragon Club":MAILTO:info@diamonddragon.fun
END:VEVENT
BEGIN:VEVENT
DTSTART;TZID=Europe/Sofia:20261114T130000
DTEND;TZID=Europe/Sofia:20261114T143000
DTSTAMP:20260421T191715
CREATED:20250310T084112Z
LAST-MODIFIED:20250320T150343Z
UID:10002536-1794661200-1794666600@diamonddragon.fun
SUMMARY:Тренировка
DESCRIPTION:
URL:https://diamonddragon.fun/e/trenirovka-sabota-2/2026-11-14/
LOCATION:Панчарево\, Панчарево\, София\, София\, 1137\, Bulgaria
CATEGORIES:Тренировка
ATTACH;FMTTYPE=image/jpeg:https://diamonddragon.fun/wp-content/uploads/2024/12/20240630_142850-scaled.jpg
ORGANIZER;CN="Diamon Dragon Club":MAILTO:info@diamonddragon.fun
END:VEVENT
BEGIN:VEVENT
DTSTART;TZID=Europe/Sofia:20261117T180000
DTEND;TZID=Europe/Sofia:20261117T193000
DTSTAMP:20260421T191715
CREATED:20250310T084140Z
LAST-MODIFIED:20250310T084141Z
UID:10001489-1794938400-1794943800@diamonddragon.fun
SUMMARY:Тренировка
DESCRIPTION:
URL:https://diamonddragon.fun/e/trenirovka-2/2026-11-17/
LOCATION:Панчарево\, Панчарево\, София\, София\, 1137\, Bulgaria
CATEGORIES:Тренировка
ATTACH;FMTTYPE=image/jpeg:https://diamonddragon.fun/wp-content/uploads/2024/12/20240630_142850-scaled.jpg
ORGANIZER;CN="Diamon Dragon Club":MAILTO:info@diamonddragon.fun
END:VEVENT
BEGIN:VEVENT
DTSTART;TZID=Europe/Sofia:20261119T180000
DTEND;TZID=Europe/Sofia:20261119T193000
DTSTAMP:20260421T191715
CREATED:20250310T084140Z
LAST-MODIFIED:20250310T084141Z
UID:10001490-1795111200-1795116600@diamonddragon.fun
SUMMARY:Тренировка
DESCRIPTION:
URL:https://diamonddragon.fun/e/trenirovka-2/2026-11-19/
LOCATION:Панчарево\, Панчарево\, София\, София\, 1137\, Bulgaria
CATEGORIES:Тренировка
ATTACH;FMTTYPE=image/jpeg:https://diamonddragon.fun/wp-content/uploads/2024/12/20240630_142850-scaled.jpg
ORGANIZER;CN="Diamon Dragon Club":MAILTO:info@diamonddragon.fun
END:VEVENT
BEGIN:VEVENT
DTSTART;TZID=Europe/Sofia:20261121T130000
DTEND;TZID=Europe/Sofia:20261121T143000
DTSTAMP:20260421T191715
CREATED:20250310T084112Z
LAST-MODIFIED:20250320T150343Z
UID:10002537-1795266000-1795271400@diamonddragon.fun
SUMMARY:Тренировка
DESCRIPTION:
URL:https://diamonddragon.fun/e/trenirovka-sabota-2/2026-11-21/
LOCATION:Панчарево\, Панчарево\, София\, София\, 1137\, Bulgaria
CATEGORIES:Тренировка
ATTACH;FMTTYPE=image/jpeg:https://diamonddragon.fun/wp-content/uploads/2024/12/20240630_142850-scaled.jpg
ORGANIZER;CN="Diamon Dragon Club":MAILTO:info@diamonddragon.fun
END:VEVENT
BEGIN:VEVENT
DTSTART;TZID=Europe/Sofia:20261124T180000
DTEND;TZID=Europe/Sofia:20261124T193000
DTSTAMP:20260421T191715
CREATED:20250310T084140Z
LAST-MODIFIED:20250310T084141Z
UID:10001491-1795543200-1795548600@diamonddragon.fun
SUMMARY:Тренировка
DESCRIPTION:
URL:https://diamonddragon.fun/e/trenirovka-2/2026-11-24/
LOCATION:Панчарево\, Панчарево\, София\, София\, 1137\, Bulgaria
CATEGORIES:Тренировка
ATTACH;FMTTYPE=image/jpeg:https://diamonddragon.fun/wp-content/uploads/2024/12/20240630_142850-scaled.jpg
ORGANIZER;CN="Diamon Dragon Club":MAILTO:info@diamonddragon.fun
END:VEVENT
BEGIN:VEVENT
DTSTART;TZID=Europe/Sofia:20261126T180000
DTEND;TZID=Europe/Sofia:20261126T193000
DTSTAMP:20260421T191715
CREATED:20250310T084140Z
LAST-MODIFIED:20250310T084141Z
UID:10001492-1795716000-1795721400@diamonddragon.fun
SUMMARY:Тренировка
DESCRIPTION:
URL:https://diamonddragon.fun/e/trenirovka-2/2026-11-26/
LOCATION:Панчарево\, Панчарево\, София\, София\, 1137\, Bulgaria
CATEGORIES:Тренировка
ATTACH;FMTTYPE=image/jpeg:https://diamonddragon.fun/wp-content/uploads/2024/12/20240630_142850-scaled.jpg
ORGANIZER;CN="Diamon Dragon Club":MAILTO:info@diamonddragon.fun
END:VEVENT
BEGIN:VEVENT
DTSTART;TZID=Europe/Sofia:20261128T130000
DTEND;TZID=Europe/Sofia:20261128T143000
DTSTAMP:20260421T191715
CREATED:20250310T084112Z
LAST-MODIFIED:20250320T150343Z
UID:10002538-1795870800-1795876200@diamonddragon.fun
SUMMARY:Тренировка
DESCRIPTION:
URL:https://diamonddragon.fun/e/trenirovka-sabota-2/2026-11-28/
LOCATION:Панчарево\, Панчарево\, София\, София\, 1137\, Bulgaria
CATEGORIES:Тренировка
ATTACH;FMTTYPE=image/jpeg:https://diamonddragon.fun/wp-content/uploads/2024/12/20240630_142850-scaled.jpg
ORGANIZER;CN="Diamon Dragon Club":MAILTO:info@diamonddragon.fun
END:VEVENT
END:VCALENDAR